BEGIN:VCALENDAR
VERSION:2.0
PRODID:-//SyracuseArts.net
METHOD:PUBLISH
BEGIN:VEVENT
UID:20260425080443-syracusearts.net
DTSTAMP:20260425T080443Z
DTSTART:20260425T180000Z
DTEND:20260425T200000Z
SUMMARY:Foolproof\nSyracuse University Drama Department\n
LOCATION:Clark Theater, Syracuse Stage, 820 E. Genesee St., Syracuse
DESCRIPTION:For complete information, visit http://syracusearts.net/calendar/event.cfm?PerfID=156027
URL;VALUE=URI:http://syracusearts.net/calendar/event.cfm?PerfID=156027
END:VEVENT
END:VCALENDAR