BEGIN:VCALENDAR
VERSION:2.0
PRODID:-//SyracuseArts.net
METHOD:PUBLISH
BEGIN:VEVENT
UID:20260422050425-syracusearts.net
DTSTAMP:20260422T050425Z
DTSTART:20260718T233000Z
DTEND:20260719T013000Z
SUMMARY:Folias Duo\nSkaneateles Library Guitar Series\n
LOCATION:Skaneateles Library, 49 E. Genesee St., Skaneateles
DESCRIPTION:For complete information, visit http://syracusearts.net/calendar/event.cfm?PerfID=155002
URL;VALUE=URI:http://syracusearts.net/calendar/event.cfm?PerfID=155002
END:VEVENT
END:VCALENDAR