BEGIN:VCALENDAR
VERSION:2.0
PRODID:-//SyracuseArts.net
METHOD:PUBLISH
BEGIN:VEVENT
UID:20260422050411-syracusearts.net
DTSTAMP:20260422T050411Z
DTSTART:20260613T233000Z
DTEND:20260614T013000Z
SUMMARY:Collin Holloway & Brian Gadbow\nSkaneateles Library Guitar Series\n
LOCATION:Skaneateles Library, 49 E. Genesee St., Skaneateles
DESCRIPTION:For complete information, visit http://syracusearts.net/calendar/event.cfm?PerfID=155001
URL;VALUE=URI:http://syracusearts.net/calendar/event.cfm?PerfID=155001
END:VEVENT
END:VCALENDAR